BEGIN:VCALENDAR
VERSION:2.0
PRODID:-//vegan - ECPv6.15.18//NONSGML v1.0//EN
CALSCALE:GREGORIAN
METHOD:PUBLISH
X-WR-CALNAME:vegan
X-ORIGINAL-URL:https://thevegancommunity.com
X-WR-CALDESC:Events for vegan
REFRESH-INTERVAL;VALUE=DURATION:PT1H
X-Robots-Tag:noindex
X-PUBLISHED-TTL:PT1H
BEGIN:VTIMEZONE
TZID:America/New_York
BEGIN:DAYLIGHT
TZOFFSETFROM:-0500
TZOFFSETTO:-0400
TZNAME:EDT
DTSTART:20250309T070000
END:DAYLIGHT
BEGIN:STANDARD
TZOFFSETFROM:-0400
TZOFFSETTO:-0500
TZNAME:EST
DTSTART:20251102T060000
END:STANDARD
BEGIN:DAYLIGHT
TZOFFSETFROM:-0500
TZOFFSETTO:-0400
TZNAME:EDT
DTSTART:20260308T070000
END:DAYLIGHT
BEGIN:STANDARD
TZOFFSETFROM:-0400
TZOFFSETTO:-0500
TZNAME:EST
DTSTART:20261101T060000
END:STANDARD
BEGIN:DAYLIGHT
TZOFFSETFROM:-0500
TZOFFSETTO:-0400
TZNAME:EDT
DTSTART:20270314T070000
END:DAYLIGHT
BEGIN:STANDARD
TZOFFSETFROM:-0400
TZOFFSETTO:-0500
TZNAME:EST
DTSTART:20271107T060000
END:STANDARD
END:VTIMEZONE
BEGIN:VEVENT
DTSTART;TZID=America/New_York:20260501T140000
DTEND;TZID=America/New_York:20260501T140000
DTSTAMP:20260419T125954
CREATED:20260413T140404Z
LAST-MODIFIED:20260419T034805Z
UID:648-1777644000-1777644000@thevegancommunity.com
SUMMARY:International Calf and Cow Mother's Day: Part Two: From Awareness to Action
DESCRIPTION:Organised by the Million Vegan Grandmothers in Partnership with Climate Healers and The Vegan Community \nWith Tami Hay\, Anne Casparsson\,  Dr. Sailesh Rao\, and Linda Middlesworth \nApril 24 and May 1 | ⏱️Time: 2:00 PM ET | 11:00 AM PT | Live on Zoom \nThe bond between a mother and her child is a sacred expression of universal love. While we honor this connection in human families every Mother’s Day\, a different reality exists for mothers in the dairy industry\, where this bond is often severed shortly after birth. \nTo bridge this gap\, A Million Vegan Grandmothers\, in partnership with Climate Healers and The Vegan Community\, is observing the inaugural International Calf & Cow Mother’s Day on May 9 and 10. This global observance uses storytelling and joyful celebration to expand our circle of compassion to include all sentient mothers. \n🌿Part 2: From Awareness to Action (May 1\, 2026): \nTransform passive awareness into meaningful change. Gain strategies to communicate animal sentience clearly and present plant-based living as a joyful\, accessible invitation for change. \nJoin this space to listen and learn as we extend the honor of motherhood to all species\, and take a vital stride toward a kinder world.  \nRegister Now
URL:https://thevegancommunity.com/event/international-calf-and-cow-mothers-day-part-two-from-awareness-to-action/
CATEGORIES:FALSE
ATTACH;FMTTYPE=image/jpeg:https://thevegancommunity.com/wp-content/uploads/2026/04/WEB.jpg
END:VEVENT
END:VCALENDAR